BEGIN:VCALENDAR
VERSION:2.0
PRODID:-//hacksw/handcal//NONSGML v1.0//EN
BEGIN:VEVENT
SUMMARY:Challenge National #1 - Chalon-sur-Saone
UID:f41733f7-e211-43c0-bed0-3a976ad895ed
DTSTART:20260416T220000Z
DTEND:20260419T220000Z
LOCATION:Localisation   
CATEGORIES:Sportif
STATUS:
URL;VALUE=URI:https://www.est-natation.com/evenements/2026/04/17/challenge-national-1-chalon-sur-saone-2442948
END:VEVENT
END:VCALENDAR
